BEGIN:VCALENDAR
VERSION:2.0
PRODID:-//hacksw/handcal//NONSGML v1.0//EN
BEGIN:VEVENT
SUMMARY:Prix Cycliste International de Romilly
UID:03276c0e-0192-4d53-9bf9-7a68de93555c
DTSTART:20260501T220000Z
DTEND:20260503T220000Z
LOCATION:Localisation   
CATEGORIES:Sportif
STATUS:
URL;VALUE=URI:https://www.cnav-club.com/evenements/2026/05/02/prix-cycliste-international-de-romilly-2441905
END:VEVENT
END:VCALENDAR
